Package: tkWidgets Version: 1.84.0 Command: /Library/Frameworks/R.framework/Resources/bin/R CMD build --keep-empty-dirs --no-resave-data tkWidgets StartedAt: 2025-03-31 22:37:06 -0400 (Mon, 31 Mar 2025) EndedAt: 2025-03-31 22:37:40 -0400 (Mon, 31 Mar 2025) EllapsedTime: 33.3 seconds RetCode: 0 Status: OK PackageFile: tkWidgets_1.84.0.tar.gz PackageFileSize: 475.1 KiB