Package: timescape Version: 1.30.0 Command: /home/biocbuild/bbs-3.20-bioc/R/bin/R CMD INSTALL timescape StartedAt: 2025-03-31 15:37:59 -0400 (Mon, 31 Mar 2025) EndedAt: 2025-03-31 15:38:00 -0400 (Mon, 31 Mar 2025) EllapsedTime: 1.6 seconds RetCode: 0 Status: OK