Package: timescape Version: 1.30.0 Command: /Library/Frameworks/R.framework/Resources/bin/R CMD INSTALL timescape StartedAt: 2025-03-31 15:57:14 -0400 (Mon, 31 Mar 2025) EndedAt: 2025-03-31 15:57:20 -0400 (Mon, 31 Mar 2025) EllapsedTime: 5.8 seconds RetCode: 0 Status: OK