Package: timecourse Version: 1.78.0 Command: /home/biocbuild/R/R/bin/R CMD check --install=check:timecourse.install-out.txt --library=/home/biocbuild/R/R/site-library --no-vignettes --timings timecourse_1.78.0.tar.gz StartedAt: 2025-04-01 11:22:02 -0000 (Tue, 01 Apr 2025) EndedAt: 2025-04-01 11:22:48 -0000 (Tue, 01 Apr 2025) EllapsedTime: 46.0 seconds RetCode: 0 Status: OK CheckDir: timecourse.Rcheck Warnings: 0