Package: timecourse Version: 1.78.0 Command: /Library/Frameworks/R.framework/Resources/bin/R CMD check --install=check:timecourse.install-out.txt --library=/Library/Frameworks/R.framework/Resources/library --no-vignettes --timings timecourse_1.78.0.tar.gz StartedAt: 2025-04-01 10:18:09 -0400 (Tue, 01 Apr 2025) EndedAt: 2025-04-01 10:19:38 -0400 (Tue, 01 Apr 2025) EllapsedTime: 89.1 seconds RetCode: 0 Status: OK CheckDir: timecourse.Rcheck Warnings: 0