Package: timecourse Version: 1.78.0 Command: /Library/Frameworks/R.framework/Resources/bin/R CMD build --keep-empty-dirs --no-resave-data timecourse StartedAt: 2025-03-31 22:36:25 -0400 (Mon, 31 Mar 2025) EndedAt: 2025-03-31 22:37:06 -0400 (Mon, 31 Mar 2025) EllapsedTime: 41.6 seconds RetCode: 0 Status: OK PackageFile: timecourse_1.78.0.tar.gz PackageFileSize: 838.8 KiB