Package: timeOmics Version: 1.18.0 Command: F:\biocbuild\bbs-3.20-bioc\R\bin\R.exe CMD check --no-multiarch --install=check:timeOmics.install-out.txt --library=F:\biocbuild\bbs-3.20-bioc\R\library --no-vignettes --timings timeOmics_1.18.0.tar.gz StartedAt: 2025-04-01 06:48:03 -0400 (Tue, 01 Apr 2025) EndedAt: 2025-04-01 06:51:23 -0400 (Tue, 01 Apr 2025) EllapsedTime: 199.5 seconds RetCode: 0 Status: WARNINGS CheckDir: timeOmics.Rcheck Warnings: 2