Package: timeOmics Version: 1.18.0 Command: /home/biocbuild/bbs-3.20-bioc/R/bin/R CMD build --keep-empty-dirs --no-resave-data --md5 timeOmics StartedAt: 2025-03-31 19:26:57 -0400 (Mon, 31 Mar 2025) EndedAt: 2025-03-31 19:27:31 -0400 (Mon, 31 Mar 2025) EllapsedTime: 34.0 seconds RetCode: 0 Status: OK PackageFile: timeOmics_1.18.0.tar.gz PackageFileSize: 3.977 MiB