Package: timeOmics Version: 1.18.0 Command: rm -rf timeOmics.buildbin-libdir && mkdir timeOmics.buildbin-libdir && /Users/biocbuild/BBS/utils/build-universal.sh timeOmics_1.18.0.tar.gz /Library/Frameworks/R.framework/Resources/bin/R timeOmics.buildbin-libdir StartedAt: 2025-04-01 12:55:23 -0400 (Tue, 01 Apr 2025) EndedAt: 2025-04-01 12:55:49 -0400 (Tue, 01 Apr 2025) EllapsedTime: 26.0 seconds RetCode: 0 Status: OK PackageFile: timeOmics_1.18.0.tgz PackageFileSize: 3.491 MiB