Package: timeOmics Version: 1.18.0 Command: /Library/Frameworks/R.framework/Resources/bin/R CMD build --keep-empty-dirs --no-resave-data timeOmics StartedAt: 2025-04-01 09:15:32 -0400 (Tue, 01 Apr 2025) EndedAt: 2025-04-01 09:16:12 -0400 (Tue, 01 Apr 2025) EllapsedTime: 40.8 seconds RetCode: 0 Status: OK PackageFile: timeOmics_1.18.0.tar.gz PackageFileSize: 4.011 MiB