Package: tilingArray Version: 1.84.0 Command: chmod a+r tilingArray -R && F:\biocbuild\bbs-3.20-bioc\R\bin\R.exe CMD build --keep-empty-dirs --no-resave-data tilingArray StartedAt: 2025-03-31 22:22:50 -0400 (Mon, 31 Mar 2025) EndedAt: 2025-03-31 22:23:54 -0400 (Mon, 31 Mar 2025) EllapsedTime: 63.5 seconds RetCode: 0 Status: OK PackageFile: tilingArray_1.84.0.tar.gz PackageFileSize: 3.14 MiB