Package: tigre Version: 1.60.0 Command: /home/biocbuild/R/R/bin/R CMD build --keep-empty-dirs --no-resave-data tigre StartedAt: 2025-04-01 03:11:06 -0000 (Tue, 01 Apr 2025) EndedAt: 2025-04-01 03:14:28 -0000 (Tue, 01 Apr 2025) EllapsedTime: 202.2 seconds RetCode: 0 Status: OK PackageFile: tigre_1.60.0.tar.gz PackageFileSize: 308.7 KiB