Package: tidyomics Version: 1.2.0 Command: F:\biocbuild\bbs-3.20-bioc\R\bin\R.exe CMD check --no-multiarch --install=check:tidyomics.install-out.txt --library=F:\biocbuild\bbs-3.20-bioc\R\library --no-vignettes --timings tidyomics_1.2.0.tar.gz StartedAt: 2025-04-01 06:44:46 -0400 (Tue, 01 Apr 2025) EndedAt: 2025-04-01 06:49:03 -0400 (Tue, 01 Apr 2025) EllapsedTime: 257.4 seconds RetCode: 0 Status: WARNINGS CheckDir: tidyomics.Rcheck Warnings: 1