Package: tidyomics Version: 1.2.0 Command: /Library/Frameworks/R.framework/Resources/bin/R CMD INSTALL tidyomics StartedAt: 2025-03-31 16:15:55 -0400 (Mon, 31 Mar 2025) EndedAt: 2025-03-31 16:17:07 -0400 (Mon, 31 Mar 2025) EllapsedTime: 71.8 seconds RetCode: 0 Status: OK