Package: tidybulk Version: 1.18.0 Command: /Library/Frameworks/R.framework/Resources/bin/R CMD INSTALL tidybulk StartedAt: 2025-03-31 15:55:51 -0400 (Mon, 31 Mar 2025) EndedAt: 2025-03-31 15:57:39 -0400 (Mon, 31 Mar 2025) EllapsedTime: 107.5 seconds RetCode: 0 Status: OK