Package: tidySpatialExperiment Version: 1.2.0 Command: /Library/Frameworks/R.framework/Resources/bin/R CMD check --install=check:tidySpatialExperiment.install-out.txt --library=/Library/Frameworks/R.framework/Resources/library --no-vignettes --timings tidySpatialExperiment_1.2.0.tar.gz StartedAt: 2025-04-01 10:16:26 -0400 (Tue, 01 Apr 2025) EndedAt: 2025-04-01 10:25:06 -0400 (Tue, 01 Apr 2025) EllapsedTime: 520.4 seconds RetCode: 0 Status: OK CheckDir: tidySpatialExperiment.Rcheck Warnings: 0