Package: terraTCGAdata Version: 1.10.0 Command: /home/biocbuild/R/R/bin/R CMD check --install=check:terraTCGAdata.install-out.txt --library=/home/biocbuild/R/R/site-library --no-vignettes --timings terraTCGAdata_1.10.0.tar.gz StartedAt: 2025-04-01 11:18:08 -0000 (Tue, 01 Apr 2025) EndedAt: 2025-04-01 11:21:39 -0000 (Tue, 01 Apr 2025) EllapsedTime: 211.3 seconds RetCode: 0 Status: OK CheckDir: terraTCGAdata.Rcheck Warnings: 0