Package: terraTCGAdata Version: 1.10.0 Command: /Library/Frameworks/R.framework/Resources/bin/R CMD INSTALL terraTCGAdata StartedAt: 2025-03-31 15:52:55 -0400 (Mon, 31 Mar 2025) EndedAt: 2025-03-31 15:53:48 -0400 (Mon, 31 Mar 2025) EllapsedTime: 52.7 seconds RetCode: 0 Status: OK