Package: terraTCGAdata Version: 1.10.0 Command: rm -rf terraTCGAdata.buildbin-libdir && mkdir terraTCGAdata.buildbin-libdir && /Users/biocbuild/BBS/utils/build-universal.sh terraTCGAdata_1.10.0.tar.gz /Library/Frameworks/R.framework/Resources/bin/R terraTCGAdata.buildbin-libdir StartedAt: 2025-04-01 12:54:27 -0400 (Tue, 01 Apr 2025) EndedAt: 2025-04-01 12:55:23 -0400 (Tue, 01 Apr 2025) EllapsedTime: 55.3 seconds RetCode: 0 Status: OK PackageFile: terraTCGAdata_1.10.0.tgz PackageFileSize: 272.9 KiB