Package: terraTCGAdata Version: 1.10.0 Command: /Library/Frameworks/R.framework/Resources/bin/R CMD INSTALL terraTCGAdata StartedAt: 2025-03-31 16:38:06 -0400 (Mon, 31 Mar 2025) EndedAt: 2025-03-31 16:38:35 -0400 (Mon, 31 Mar 2025) EllapsedTime: 28.9 seconds RetCode: 0 Status: OK