Package: ternarynet Version: 1.50.0 Command: /home/biocbuild/R/R/bin/R CMD build --keep-empty-dirs --no-resave-data ternarynet StartedAt: 2025-04-01 03:08:24 -0000 (Tue, 01 Apr 2025) EndedAt: 2025-04-01 03:08:39 -0000 (Tue, 01 Apr 2025) EllapsedTime: 15.0 seconds RetCode: 0 Status: OK PackageFile: ternarynet_1.50.0.tar.gz PackageFileSize: 259.5 KiB