Package: ternarynet Version: 1.50.0 Command: rm -rf ternarynet.buildbin-libdir && mkdir ternarynet.buildbin-libdir && F:\biocbuild\bbs-3.20-bioc\R\bin\R.exe CMD INSTALL --build --library=ternarynet.buildbin-libdir ternarynet_1.50.0.tar.gz StartedAt: 2025-04-01 09:22:58 -0400 (Tue, 01 Apr 2025) EndedAt: 2025-04-01 09:24:02 -0400 (Tue, 01 Apr 2025) EllapsedTime: 64.0 seconds RetCode: 0 Status: OK PackageFile: ternarynet_1.50.0.zip PackageFileSize: 524.4 KiB