Package: target Version: 1.20.0 Command: /home/biocbuild/R/R/bin/R CMD INSTALL target StartedAt: 2025-03-31 21:02:10 -0000 (Mon, 31 Mar 2025) EndedAt: 2025-03-31 21:02:23 -0000 (Mon, 31 Mar 2025) EllapsedTime: 13.7 seconds RetCode: 0 Status: OK