Package: target Version: 1.20.0 Command: /Library/Frameworks/R.framework/Resources/bin/R CMD check --install=check:target.install-out.txt --library=/Library/Frameworks/R.framework/Resources/library --no-vignettes --timings target_1.20.0.tar.gz StartedAt: 2025-04-01 10:08:07 -0400 (Tue, 01 Apr 2025) EndedAt: 2025-04-01 10:10:53 -0400 (Tue, 01 Apr 2025) EllapsedTime: 166.5 seconds RetCode: 0 Status: OK CheckDir: target.Rcheck Warnings: 0