Package: target Version: 1.20.0 Command: /Library/Frameworks/R.framework/Resources/bin/R CMD check --install=check:target.install-out.txt --library=/Library/Frameworks/R.framework/Resources/library --no-vignettes --timings target_1.20.0.tar.gz StartedAt: 2025-04-02 11:02:21 -0400 (Wed, 02 Apr 2025) EndedAt: 2025-04-02 11:04:04 -0400 (Wed, 02 Apr 2025) EllapsedTime: 103.2 seconds RetCode: 0 Status: OK CheckDir: target.Rcheck Warnings: 0