Package: tRNAscanImport Version: 1.26.0 Command: chmod a+r tRNAscanImport -R && F:\biocbuild\bbs-3.20-bioc\R\bin\R.exe CMD build --keep-empty-dirs --no-resave-data tRNAscanImport StartedAt: 2025-03-31 22:28:23 -0400 (Mon, 31 Mar 2025) EndedAt: 2025-03-31 22:30:32 -0400 (Mon, 31 Mar 2025) EllapsedTime: 129.5 seconds RetCode: 0 Status: OK PackageFile: tRNAscanImport_1.26.0.tar.gz PackageFileSize: 455.4 KiB