Package: tRNAscanImport Version: 1.26.0 Command: /Library/Frameworks/R.framework/Resources/bin/R CMD build --keep-empty-dirs --no-resave-data tRNAscanImport StartedAt: 2025-03-31 22:42:42 -0400 (Mon, 31 Mar 2025) EndedAt: 2025-03-31 22:46:52 -0400 (Mon, 31 Mar 2025) EllapsedTime: 249.9 seconds RetCode: 0 Status: OK PackageFile: tRNAscanImport_1.26.0.tar.gz PackageFileSize: 876.9 KiB