Package: tRNAscanImport Version: 1.26.0 Command: rm -rf tRNAscanImport.buildbin-libdir && mkdir tRNAscanImport.buildbin-libdir && /Users/biocbuild/BBS/utils/build-universal.sh tRNAscanImport_1.26.0.tar.gz /Library/Frameworks/R.framework/Resources/bin/R tRNAscanImport.buildbin-libdir StartedAt: 2025-04-01 12:57:17 -0400 (Tue, 01 Apr 2025) EndedAt: 2025-04-01 12:58:32 -0400 (Tue, 01 Apr 2025) EllapsedTime: 74.7 seconds RetCode: 0 Status: OK PackageFile: tRNAscanImport_1.26.0.tgz PackageFileSize: 924.2 KiB