Package: tRNAdbImport Version: 1.24.0 Command: /home/biocbuild/R/R/bin/R CMD INSTALL tRNAdbImport StartedAt: 2025-03-31 20:24:55 -0000 (Mon, 31 Mar 2025) EndedAt: 2025-03-31 20:25:13 -0000 (Mon, 31 Mar 2025) EllapsedTime: 18.0 seconds RetCode: 0 Status: OK