Package: tRNAdbImport Version: 1.24.0 Command: chmod a+r tRNAdbImport -R && F:\biocbuild\bbs-3.20-bioc\R\bin\R.exe CMD build --keep-empty-dirs --no-resave-data tRNAdbImport StartedAt: 2025-03-31 22:28:14 -0400 (Mon, 31 Mar 2025) EndedAt: 2025-03-31 22:29:01 -0400 (Mon, 31 Mar 2025) EllapsedTime: 46.9 seconds RetCode: 0 Status: OK PackageFile: tRNAdbImport_1.24.0.tar.gz PackageFileSize: 322.1 KiB