Package: tRNAdbImport Version: 1.24.0 Command: rm -rf tRNAdbImport.buildbin-libdir && mkdir tRNAdbImport.buildbin-libdir && F:\biocbuild\bbs-3.20-bioc\R\bin\R.exe CMD INSTALL --build --library=tRNAdbImport.buildbin-libdir tRNAdbImport_1.24.0.tar.gz StartedAt: 2025-04-01 09:26:31 -0400 (Tue, 01 Apr 2025) EndedAt: 2025-04-01 09:27:08 -0400 (Tue, 01 Apr 2025) EllapsedTime: 37.7 seconds RetCode: 0 Status: OK PackageFile: tRNAdbImport_1.24.0.zip PackageFileSize: 381 KiB