Package: tRNAdbImport Version: 1.24.0 Command: /home/biocbuild/bbs-3.20-bioc/R/bin/R CMD INSTALL tRNAdbImport StartedAt: 2025-03-31 15:19:40 -0400 (Mon, 31 Mar 2025) EndedAt: 2025-03-31 15:19:55 -0400 (Mon, 31 Mar 2025) EllapsedTime: 15.4 seconds RetCode: 0 Status: OK