Package: tRNAdbImport Version: 1.24.0 Command: /home/biocbuild/bbs-3.20-bioc/R/bin/R CMD build --keep-empty-dirs --no-resave-data --md5 tRNAdbImport StartedAt: 2025-03-31 19:30:46 -0400 (Mon, 31 Mar 2025) EndedAt: 2025-03-31 19:31:14 -0400 (Mon, 31 Mar 2025) EllapsedTime: 28.0 seconds RetCode: 0 Status: OK PackageFile: tRNAdbImport_1.24.0.tar.gz PackageFileSize: 323 KiB