Package: systemPipeShiny Version: 1.16.0 Command: /home/biocbuild/R/R/bin/R CMD INSTALL systemPipeShiny StartedAt: 2025-03-31 20:45:16 -0000 (Mon, 31 Mar 2025) EndedAt: 2025-03-31 20:45:35 -0000 (Mon, 31 Mar 2025) EllapsedTime: 18.6 seconds RetCode: 0 Status: OK