Package: systemPipeShiny Version: 1.16.0 Command: /home/biocbuild/R/R/bin/R CMD build --keep-empty-dirs --no-resave-data systemPipeShiny StartedAt: 2025-04-01 03:05:06 -0000 (Tue, 01 Apr 2025) EndedAt: 2025-04-01 03:05:41 -0000 (Tue, 01 Apr 2025) EllapsedTime: 35.0 seconds RetCode: 0 Status: OK PackageFile: systemPipeShiny_1.16.0.tar.gz PackageFileSize: 4.37 MiB