Package: systemPipeShiny Version: 1.16.0 Command: /Library/Frameworks/R.framework/Resources/bin/R CMD INSTALL systemPipeShiny StartedAt: 2025-03-31 15:55:33 -0400 (Mon, 31 Mar 2025) EndedAt: 2025-03-31 15:56:09 -0400 (Mon, 31 Mar 2025) EllapsedTime: 36.6 seconds RetCode: 0 Status: OK