Package: systemPipeShiny Version: 1.16.0 Command: /Library/Frameworks/R.framework/Resources/bin/R CMD check --install=check:systemPipeShiny.install-out.txt --library=/Library/Frameworks/R.framework/Resources/library --no-vignettes --timings systemPipeShiny_1.16.0.tar.gz StartedAt: 2025-04-01 10:06:23 -0400 (Tue, 01 Apr 2025) EndedAt: 2025-04-01 10:09:48 -0400 (Tue, 01 Apr 2025) EllapsedTime: 204.8 seconds RetCode: 0 Status: OK CheckDir: systemPipeShiny.Rcheck Warnings: 0