Package: systemPipeShiny Version: 1.16.0 Command: /Library/Frameworks/R.framework/Resources/bin/R CMD build --keep-empty-dirs --no-resave-data systemPipeShiny StartedAt: 2025-03-31 22:30:13 -0400 (Mon, 31 Mar 2025) EndedAt: 2025-03-31 22:31:15 -0400 (Mon, 31 Mar 2025) EllapsedTime: 62.3 seconds RetCode: 0 Status: OK PackageFile: systemPipeShiny_1.16.0.tar.gz PackageFileSize: 4.307 MiB