Package: systemPipeShiny Version: 1.16.0 Command: rm -rf systemPipeShiny.buildbin-libdir && mkdir systemPipeShiny.buildbin-libdir && /Users/biocbuild/BBS/utils/build-universal.sh systemPipeShiny_1.16.0.tar.gz /Library/Frameworks/R.framework/Resources/bin/R systemPipeShiny.buildbin-libdir StartedAt: 2025-04-02 16:35:16 -0400 (Wed, 02 Apr 2025) EndedAt: 2025-04-02 16:35:35 -0400 (Wed, 02 Apr 2025) EllapsedTime: 19.2 seconds RetCode: 0 Status: OK PackageFile: systemPipeShiny_1.16.0.tgz PackageFileSize: 3.58 MiB