Package: systemPipeR Version: 2.12.0 Command: /home/biocbuild/R/R/bin/R CMD INSTALL systemPipeR StartedAt: 2025-03-31 20:41:23 -0000 (Mon, 31 Mar 2025) EndedAt: 2025-03-31 20:42:20 -0000 (Mon, 31 Mar 2025) EllapsedTime: 57.0 seconds RetCode: 0 Status: OK