Package: systemPipeR Version: 2.12.0 Command: /home/biocbuild/R/R/bin/R CMD check --install=check:systemPipeR.install-out.txt --library=/home/biocbuild/R/R/site-library --no-vignettes --timings systemPipeR_2.12.0.tar.gz StartedAt: 2025-04-01 11:13:37 -0000 (Tue, 01 Apr 2025) EndedAt: 2025-04-01 11:20:23 -0000 (Tue, 01 Apr 2025) EllapsedTime: 406.6 seconds RetCode: 0 Status: OK CheckDir: systemPipeR.Rcheck Warnings: 0