Package: systemPipeR Version: 2.12.0 Command: rm -rf systemPipeR.buildbin-libdir && mkdir systemPipeR.buildbin-libdir && /Users/biocbuild/BBS/utils/build-universal.sh systemPipeR_2.12.0.tar.gz /Library/Frameworks/R.framework/Resources/bin/R systemPipeR.buildbin-libdir StartedAt: 2025-04-02 16:35:15 -0400 (Wed, 02 Apr 2025) EndedAt: 2025-04-02 16:36:14 -0400 (Wed, 02 Apr 2025) EllapsedTime: 59.0 seconds RetCode: 0 Status: OK PackageFile: systemPipeR_2.12.0.tgz PackageFileSize: 6.286 MiB