Package: syntenet Version: 1.8.1 Command: /Library/Frameworks/R.framework/Resources/bin/R CMD check --install=check:syntenet.install-out.txt --library=/Library/Frameworks/R.framework/Resources/library --no-vignettes --timings syntenet_1.8.1.tar.gz StartedAt: 2025-04-02 10:55:15 -0400 (Wed, 02 Apr 2025) EndedAt: 2025-04-02 11:00:35 -0400 (Wed, 02 Apr 2025) EllapsedTime: 320.0 seconds RetCode: 0 Status: OK CheckDir: syntenet.Rcheck Warnings: 0