Package: synlet Version: 2.6.0 Command: F:\biocbuild\bbs-3.20-bioc\R\bin\R.exe CMD check --no-multiarch --install=check:synlet.install-out.txt --library=F:\biocbuild\bbs-3.20-bioc\R\library --no-vignettes --timings synlet_2.6.0.tar.gz StartedAt: 2025-04-01 06:37:09 -0400 (Tue, 01 Apr 2025) EndedAt: 2025-04-01 06:38:04 -0400 (Tue, 01 Apr 2025) EllapsedTime: 54.7 seconds RetCode: 0 Status: OK CheckDir: synlet.Rcheck Warnings: 0