Package: synergyfinder Version: 3.14.0 Command: /home/biocbuild/R/R/bin/R CMD build --keep-empty-dirs --no-resave-data synergyfinder StartedAt: 2025-04-01 03:04:35 -0000 (Tue, 01 Apr 2025) EndedAt: 2025-04-01 03:04:36 -0000 (Tue, 01 Apr 2025) EllapsedTime: 1.0 seconds RetCode: 1 Status: ERROR PackageFile: None PackageFileSize: NA