Package: synapter Version: 2.30.0 Command: F:\biocbuild\bbs-3.20-bioc\R\bin\R.exe CMD check --no-multiarch --install=check:synapter.install-out.txt --library=F:\biocbuild\bbs-3.20-bioc\R\library --no-vignettes --timings synapter_2.30.0.tar.gz StartedAt: 2025-04-01 06:36:31 -0400 (Tue, 01 Apr 2025) EndedAt: 2025-04-01 06:43:30 -0400 (Tue, 01 Apr 2025) EllapsedTime: 419.2 seconds RetCode: 0 Status: OK CheckDir: synapter.Rcheck Warnings: 0