Package: synapsis Version: 1.12.0 Command: /Library/Frameworks/R.framework/Resources/bin/R CMD build --keep-empty-dirs --no-resave-data synapsis StartedAt: 2025-04-01 08:59:13 -0400 (Tue, 01 Apr 2025) EndedAt: 2025-04-01 08:59:52 -0400 (Tue, 01 Apr 2025) EllapsedTime: 38.6 seconds RetCode: 0 Status: OK PackageFile: synapsis_1.12.0.tar.gz PackageFileSize: 3.532 MiB