Package: switchde Version: 1.32.0 Command: /home/biocbuild/R/R/bin/R CMD INSTALL switchde StartedAt: 2025-03-31 20:22:36 -0000 (Mon, 31 Mar 2025) EndedAt: 2025-03-31 20:23:06 -0000 (Mon, 31 Mar 2025) EllapsedTime: 29.7 seconds RetCode: 0 Status: OK