Package: switchde Version: 1.32.0 Command: /Library/Frameworks/R.framework/Resources/bin/R CMD INSTALL switchde StartedAt: 2025-03-31 15:18:07 -0400 (Mon, 31 Mar 2025) EndedAt: 2025-03-31 15:18:58 -0400 (Mon, 31 Mar 2025) EllapsedTime: 51.6 seconds RetCode: 0 Status: OK