Package: switchBox Version: 1.42.0 Command: F:\biocbuild\bbs-3.20-bioc\R\bin\R.exe CMD INSTALL switchBox StartedAt: 2025-03-31 15:23:43 -0400 (Mon, 31 Mar 2025) EndedAt: 2025-03-31 15:24:22 -0400 (Mon, 31 Mar 2025) EllapsedTime: 38.6 seconds RetCode: 0 Status: OK